BEGIN:VCALENDAR
VERSION:2.0
PRODID:-//Moray Reach Out - ECPv6.15.20//NONSGML v1.0//EN
CALSCALE:GREGORIAN
METHOD:PUBLISH
X-ORIGINAL-URL:https://morayreachout.org.uk
X-WR-CALDESC:Events for Moray Reach Out
REFRESH-INTERVAL;VALUE=DURATION:PT1H
X-Robots-Tag:noindex
X-PUBLISHED-TTL:PT1H
BEGIN:VTIMEZONE
TZID:Europe/London
BEGIN:DAYLIGHT
TZOFFSETFROM:+0000
TZOFFSETTO:+0100
TZNAME:BST
DTSTART:20240331T010000
END:DAYLIGHT
BEGIN:STANDARD
TZOFFSETFROM:+0100
TZOFFSETTO:+0000
TZNAME:GMT
DTSTART:20241027T010000
END:STANDARD
BEGIN:DAYLIGHT
TZOFFSETFROM:+0000
TZOFFSETTO:+0100
TZNAME:BST
DTSTART:20250330T010000
END:DAYLIGHT
BEGIN:STANDARD
TZOFFSETFROM:+0100
TZOFFSETTO:+0000
TZNAME:GMT
DTSTART:20251026T010000
END:STANDARD
BEGIN:DAYLIGHT
TZOFFSETFROM:+0000
TZOFFSETTO:+0100
TZNAME:BST
DTSTART:20260329T010000
END:DAYLIGHT
BEGIN:STANDARD
TZOFFSETFROM:+0100
TZOFFSETTO:+0000
TZNAME:GMT
DTSTART:20261025T010000
END:STANDARD
END:VTIMEZONE
BEGIN:VEVENT
DTSTART;TZID=Europe/London:20251115T100000
DTEND;TZID=Europe/London:20251115T150000
DTSTAMP:20260423T154304
CREATED:20251211T143700Z
LAST-MODIFIED:20251211T150110Z
UID:13725-1763200800-1763218800@morayreachout.org.uk
SUMMARY:Buckie Christmas Kracker
DESCRIPTION:Festive Fun at Moray Reach Out\nDate: 15 NovemberTime: 10:00am – 3:00pmLocation: MRO Thrift Shop & Yarns & Crafts\, 23 East Church Street\, Buckie \nWe’re opening specially this Saturday for the Buckie Kracker! Come along and enjoy a festive day of shopping\, prizes\, and community fun at Moray Reach Out. \nWhat’s On:\nChristmas Jackpot Raffle – £1 per ticketTop prize of £500\, plus a fantastic range of other prizes. \nChildren’s Lucky Dip – £1Pre-loved treasures\, mini toys\, chocolate treats\, and more. \nChristmas Lucky Squares – £2Only 100 squares available.Win up to £100 (half the pot!). \nWhile you’re here\, browse our Thrift Shop and Yarns & Crafts store for unique finds\, handmade items\, and Christmas gift inspiration. \nEvery pound raised helps us support and empower adults with disabilities across Moray. \nJoin us\, enjoy the festivities\, and help make a difference this Christmas!
URL:https://morayreachout.org.uk/event/buckie-christmas-kracker/
LOCATION:Moray Reach Out\, 23 East Church St.\, Buckie\, AB56 1ET\, United Kingdom
CATEGORIES:Public
ATTACH;FMTTYPE=image/jpeg:https://morayreachout.org.uk/wp-content/uploads/2025/12/2026-MRO-Discos-Presentation-1.jpg
ORGANIZER;CN="Moray Reach Out":MAILTO:info@morayreachout.org.uk
END:VEVENT
END:VCALENDAR