BEGIN:VCALENDAR
VERSION:2.0
PRODID:-//Moray Reach Out - ECPv6.15.20//NONSGML v1.0//EN
CALSCALE:GREGORIAN
METHOD:PUBLISH
X-WR-CALNAME:Moray Reach Out
X-ORIGINAL-URL:https://morayreachout.org.uk
X-WR-CALDESC:Events for Moray Reach Out
REFRESH-INTERVAL;VALUE=DURATION:PT1H
X-Robots-Tag:noindex
X-PUBLISHED-TTL:PT1H
BEGIN:VTIMEZONE
TZID:Europe/London
BEGIN:DAYLIGHT
TZOFFSETFROM:+0000
TZOFFSETTO:+0100
TZNAME:BST
DTSTART:20240331T010000
END:DAYLIGHT
BEGIN:STANDARD
TZOFFSETFROM:+0100
TZOFFSETTO:+0000
TZNAME:GMT
DTSTART:20241027T010000
END:STANDARD
BEGIN:DAYLIGHT
TZOFFSETFROM:+0000
TZOFFSETTO:+0100
TZNAME:BST
DTSTART:20250330T010000
END:DAYLIGHT
BEGIN:STANDARD
TZOFFSETFROM:+0100
TZOFFSETTO:+0000
TZNAME:GMT
DTSTART:20251026T010000
END:STANDARD
BEGIN:DAYLIGHT
TZOFFSETFROM:+0000
TZOFFSETTO:+0100
TZNAME:BST
DTSTART:20260329T010000
END:DAYLIGHT
BEGIN:STANDARD
TZOFFSETFROM:+0100
TZOFFSETTO:+0000
TZNAME:GMT
DTSTART:20261025T010000
END:STANDARD
END:VTIMEZONE
BEGIN:VEVENT
DTSTART;TZID=Europe/London:20251215T163000
DTEND;TZID=Europe/London:20251215T173000
DTSTAMP:20260423T140401
CREATED:20251211T144706Z
LAST-MODIFIED:20251211T145736Z
UID:13732-1765816200-1765819800@morayreachout.org.uk
SUMMARY:Annual General Meeting (AGM)
DESCRIPTION:Join us for our Annual General Meeting!\n \nMoray Reach Out is hosting our AGM on Monday 15th December at 4:30PM\, held at 23 East Church Street\, Buckie. \n\n \nCome along for:\n\nTea & coffee\nMincemeat pies\nA short demo on AI in the 3rd Sector\, showing how we plan to use (and not use) these tools to support our work.\n\n\n\nOur AGM is open to all\, and we’d love to welcome new people interested in community\, sustainability and the work we do.\n\n\n \nWe hope to see you there!\n\n\n \nEveryone welcome!
URL:https://morayreachout.org.uk/event/annual-general-meeting-agm/
LOCATION:Moray Reach Out\, 23 East Church St.\, Buckie\, AB56 1ET\, United Kingdom
CATEGORIES:Public
ATTACH;FMTTYPE=image/jpeg:https://morayreachout.org.uk/wp-content/uploads/2025/12/2026-MRO-Discos-Presentation-2.jpg
ORGANIZER;CN="Moray Reach Out":MAILTO:info@morayreachout.org.uk
END:VEVENT
END:VCALENDAR