BEGIN:VCALENDAR
VERSION:2.0
PRODID:-//Moray Reach Out - ECPv6.15.20//NONSGML v1.0//EN
CALSCALE:GREGORIAN
METHOD:PUBLISH
X-WR-CALNAME:Moray Reach Out
X-ORIGINAL-URL:https://morayreachout.org.uk
X-WR-CALDESC:Events for Moray Reach Out
REFRESH-INTERVAL;VALUE=DURATION:PT1H
X-Robots-Tag:noindex
X-PUBLISHED-TTL:PT1H
BEGIN:VTIMEZONE
TZID:Europe/London
BEGIN:DAYLIGHT
TZOFFSETFROM:+0000
TZOFFSETTO:+0100
TZNAME:BST
DTSTART:20210328T010000
END:DAYLIGHT
BEGIN:STANDARD
TZOFFSETFROM:+0100
TZOFFSETTO:+0000
TZNAME:GMT
DTSTART:20211031T010000
END:STANDARD
BEGIN:DAYLIGHT
TZOFFSETFROM:+0000
TZOFFSETTO:+0100
TZNAME:BST
DTSTART:20220327T010000
END:DAYLIGHT
BEGIN:STANDARD
TZOFFSETFROM:+0100
TZOFFSETTO:+0000
TZNAME:GMT
DTSTART:20221030T010000
END:STANDARD
BEGIN:DAYLIGHT
TZOFFSETFROM:+0000
TZOFFSETTO:+0100
TZNAME:BST
DTSTART:20230326T010000
END:DAYLIGHT
BEGIN:STANDARD
TZOFFSETFROM:+0100
TZOFFSETTO:+0000
TZNAME:GMT
DTSTART:20231029T010000
END:STANDARD
BEGIN:DAYLIGHT
TZOFFSETFROM:+0000
TZOFFSETTO:+0100
TZNAME:BST
DTSTART:20240331T010000
END:DAYLIGHT
BEGIN:STANDARD
TZOFFSETFROM:+0100
TZOFFSETTO:+0000
TZNAME:GMT
DTSTART:20241027T010000
END:STANDARD
BEGIN:DAYLIGHT
TZOFFSETFROM:+0000
TZOFFSETTO:+0100
TZNAME:BST
DTSTART:20250330T010000
END:DAYLIGHT
BEGIN:STANDARD
TZOFFSETFROM:+0100
TZOFFSETTO:+0000
TZNAME:GMT
DTSTART:20251026T010000
END:STANDARD
END:VTIMEZONE
BEGIN:VEVENT
DTSTART;TZID=Europe/London:20240126T193000
DTEND;TZID=Europe/London:20240126T220000
DTSTAMP:20260420T070303
CREATED:20240110T163429Z
LAST-MODIFIED:20240116T131431Z
UID:9935-1706297400-1706306400@morayreachout.org.uk
SUMMARY:MRO Disco - 26th January 2024
DESCRIPTION:MRO Disco\n						Where? The Royal British Legion \nWhen? Friday 26th of January 2024 \nTime? 7.30pm – 10pm \nPrice? £4 at the Door \nOver 18s only\, unless accompanied by a responsible adult \nFor transport\, please contact: Angela 07951 088184 \n 
URL:https://morayreachout.org.uk/event/mro-disco-27th-january-2/
LOCATION:The Royal British Legion\, 65 High St\, Buckie\, Moray\, AB56 1AX\, United Kingdom
CATEGORIES:Social Activities
ATTACH;FMTTYPE=image/png:https://morayreachout.org.uk/wp-content/uploads/2024/01/Untitled-design.png
END:VEVENT
BEGIN:VEVENT
DTSTART;TZID=Europe/London:20231124T193000
DTEND;TZID=Europe/London:20231124T220000
DTSTAMP:20260420T070303
CREATED:20221019T132624Z
LAST-MODIFIED:20230928T130457Z
UID:5553-1700854200-1700863200@morayreachout.org.uk
SUMMARY:MRO Disco - 24th November
DESCRIPTION:MRO Disco\n						Where? The Royal British Legion \nWhen? Friday 24th November 2023 \nTime? 7.30pm – 10pm \nPrice? £4 at the Door \nDoors Open at 7pm \nOver 18s only\, unless accompanied by a responsible adult \nFor transport\, please contact: Angela 07951 088184 \n 
URL:https://morayreachout.org.uk/event/mro-disco-24th-november/
LOCATION:The Royal British Legion\, 65 High St\, Buckie\, Moray\, AB56 1AX\, United Kingdom
CATEGORIES:Social Activities
END:VEVENT
BEGIN:VEVENT
DTSTART;TZID=Europe/London:20231103T133000
DTEND;TZID=Europe/London:20231103T160000
DTSTAMP:20260420T070303
CREATED:20230816T093142Z
LAST-MODIFIED:20230816T093142Z
UID:9220-1699018200-1699027200@morayreachout.org.uk
SUMMARY:Healthpoint Advisor
DESCRIPTION:NHS Grampian healthpoint’s offer confidential advice and information to support your health and wellbeing and promote self-care/self-management. Their Healthpoint Advisors provide information and advice on the following: \n\nHealth and wellbeing\, healthy eating\, physical activity\, smoking\, substance use and mental health and wellbeing\nMotivational Support with smoking cessation and healthy lifestyle changes\nSignposting to local services\, including; financial advice\, local support groups\, energy advice\, carer support\n\nNo appointment required – just pop in or call 01343 567842 for further information.
URL:https://morayreachout.org.uk/event/healthpoint-advisor-3/
LOCATION:Moray Reach Out\, 23 East Church St.\, Buckie\, AB56 1ET\, United Kingdom
CATEGORIES:Drop-Ins
END:VEVENT
BEGIN:VEVENT
DTSTART;TZID=Europe/London:20231027T193000
DTEND;TZID=Europe/London:20231027T220000
DTSTAMP:20260420T070303
CREATED:20221019T093041Z
LAST-MODIFIED:20230825T205041Z
UID:5532-1698435000-1698444000@morayreachout.org.uk
SUMMARY:MRO Disco - 27th October
DESCRIPTION:MRO Disco\n						Where? Ex Serviceman’s Club\, Elgin \nWhen? Friday 27th of October 2023 \nTime? 7.30pm – 10pm \nPrice? £4 at the Door \nOver 18s only\, unless accompanied by a responsible adult \nTransport will not be provided: \nAngela 07951 088184 \n 
URL:https://morayreachout.org.uk/event/mro-disco-27th-october/
LOCATION:Ex Serviceman’s Club\, 9 High St\, Elgin\, Moray\, IV30 1EQ\, United Kingdom
CATEGORIES:Social Activities
END:VEVENT
BEGIN:VEVENT
DTSTART;TZID=Europe/London:20231006T133000
DTEND;TZID=Europe/London:20231006T160000
DTSTAMP:20260420T070303
CREATED:20230816T092929Z
LAST-MODIFIED:20230816T092929Z
UID:9216-1696599000-1696608000@morayreachout.org.uk
SUMMARY:Healthpoint Advisor
DESCRIPTION:NHS Grampian healthpoint’s offer confidential advice and information to support your health and wellbeing and promote self-care/self-management. Their Healthpoint Advisors provide information and advice on the following: \n\nHealth and wellbeing\, healthy eating\, physical activity\, smoking\, substance use and mental health and wellbeing\nMotivational Support with smoking cessation and healthy lifestyle changes\nSignposting to local services\, including; financial advice\, local support groups\, energy advice\, carer support\n\nNo appointment required – just pop in or call 01343 567842 for further information.
URL:https://morayreachout.org.uk/event/healthpoint-advisor-2/
LOCATION:Moray Reach Out\, 23 East Church St.\, Buckie\, AB56 1ET\, United Kingdom
CATEGORIES:Drop-Ins
END:VEVENT
BEGIN:VEVENT
DTSTART;TZID=Europe/London:20230922T193000
DTEND;TZID=Europe/London:20230922T220000
DTSTAMP:20260420T070303
CREATED:20221019T132450Z
LAST-MODIFIED:20230825T205141Z
UID:5549-1695411000-1695420000@morayreachout.org.uk
SUMMARY:MRO Disco - 22nd September
DESCRIPTION:MRO Disco\n						Where? Buckpool Golf Club \nWhen? Friday 22nd September 2023 \nTime? 7.30pm – 10pm \nPrice? £4 at the Door \nDoors open at 7pm \nOver 18s only\, unless accompanied by a responsible adult \nFor transport\, please contact: Angela 07951 088184 \n 
URL:https://morayreachout.org.uk/event/mro-disco-22nd-september/
LOCATION:Buckpool Golf Club\, Barhill Rd\, Buckie\, Moray\, AB56 1DU\, United Kingdom
CATEGORIES:Social Activities
END:VEVENT
BEGIN:VEVENT
DTSTART;TZID=Europe/London:20230908T133000
DTEND;TZID=Europe/London:20230908T160000
DTSTAMP:20260420T070303
CREATED:20230816T091715Z
LAST-MODIFIED:20230816T091814Z
UID:9209-1694179800-1694188800@morayreachout.org.uk
SUMMARY:Healthpoint Advisor
DESCRIPTION:NHS Grampian healthpoint’s offer confidential advice and information to support your health and wellbeing and promote self-care/self-management. \nTheir Healthpoint Advisors provide information and advice on the following: \n\nHealth and wellbeing\, healthy eating\, physical activity\, smoking\, substance use and mental health and wellbeing\nMotivational Support with smoking cessation and healthy lifestyle changes\nSignposting to local services\, including; financial advice\, local support groups\, energy advice\, carer support\n\n  \nNo appointment required – just pop in or call 01343 567842 for further information.
URL:https://morayreachout.org.uk/event/healthpoint-advisor/
LOCATION:Home\, 23 East Church St.\, Buckie\, AB56 1ET\, United Kingdom
CATEGORIES:Drop-Ins
END:VEVENT
BEGIN:VEVENT
DTSTART;TZID=Europe/London:20230825T190000
DTEND;TZID=Europe/London:20230825T223000
DTSTAMP:20260420T070303
CREATED:20220825T183026Z
LAST-MODIFIED:20230214T141046Z
UID:5523-1692990000-1693002600@morayreachout.org.uk
SUMMARY:MRO Disco - 25th August
DESCRIPTION:MRO Disco\n						Where? Ex Serviceman’s Club\, Elgin \nWhen? Friday 25th of August 2023 \nTime? 7.30pm – 10pm \nPrice? £4 at the Door \nOver 18s only\, unless accompanied by a responsible adult \nTransport will not be provided: \nAngela 07951 088184 \n 
URL:https://morayreachout.org.uk/event/mro-disco-25th-august/
LOCATION:Ex Serviceman’s Club\, 9 High St\, Elgin\, Moray\, IV30 1EQ\, United Kingdom
CATEGORIES:Social Activities
END:VEVENT
BEGIN:VEVENT
DTSTART;TZID=Europe/London:20230805T093000
DTEND;TZID=Europe/London:20230805T113000
DTSTAMP:20260420T070303
CREATED:20230816T093804Z
LAST-MODIFIED:20230816T093804Z
UID:9222-1691227800-1691235000@morayreachout.org.uk
SUMMARY:Coffee Morning
DESCRIPTION:
URL:https://morayreachout.org.uk/event/coffee-morning/
LOCATION:Moray Reach Out\, 23 East Church St.\, Buckie\, AB56 1ET\, United Kingdom
CATEGORIES:Social Activities
ATTACH;FMTTYPE=image/png:https://morayreachout.org.uk/wp-content/uploads/2023/03/logo-square.png
ORGANIZER;CN="Moray Reach Out":MAILTO:info@morayreachout.org.uk
END:VEVENT
BEGIN:VEVENT
DTSTART;TZID=Europe/London:20230728T190000
DTEND;TZID=Europe/London:20230728T223000
DTSTAMP:20260420T070303
CREATED:20221019T131937Z
LAST-MODIFIED:20230214T140932Z
UID:5546-1690570800-1690583400@morayreachout.org.uk
SUMMARY:MRO Disco - 28th July
DESCRIPTION:MRO Disco\n						Where? Buckpool Golf Club \nWhen? Friday 28th of July 2023 \nTime? 7.30pm – 10pm \nPrice? £4 at the Door \nOver 18s only\, unless accompanied by a responsible adult \nFor transport\, please contact: Angela 07951 088184 \n 
URL:https://morayreachout.org.uk/event/mro-disco-28th-july/
LOCATION:Buckpool Golf Club\, Barhill Rd\, Buckie\, Moray\, AB56 1DU\, United Kingdom
CATEGORIES:Social Activities
END:VEVENT
BEGIN:VEVENT
DTSTART;TZID=Europe/London:20230623T190000
DTEND;TZID=Europe/London:20230623T223000
DTSTAMP:20260420T070303
CREATED:20220623T183051Z
LAST-MODIFIED:20230214T140843Z
UID:5518-1687546800-1687559400@morayreachout.org.uk
SUMMARY:MRO Disco - 23rd June
DESCRIPTION:MRO Disco\n						Where? Ex Serviceman’s Club\, Elgin \nWhen? Friday 23rd of June 2023 \nTime? 7.30pm – 10pm \nPrice? £4 at the Door \nOver 18s only\, unless accompanied by a responsible adult \nTransport will not be provided: \nAngela 07951 088184 \n 
URL:https://morayreachout.org.uk/event/mro-disco-23rd-june/
LOCATION:Ex Serviceman’s Club\, 9 High St\, Elgin\, Moray\, IV30 1EQ\, United Kingdom
CATEGORIES:Social Activities
END:VEVENT
BEGIN:VEVENT
DTSTART;TZID=Europe/London:20230526T190000
DTEND;TZID=Europe/London:20230526T223000
DTSTAMP:20260420T070303
CREATED:20220526T183015Z
LAST-MODIFIED:20230214T140148Z
UID:5542-1685127600-1685140200@morayreachout.org.uk
SUMMARY:MRO Disco - 26th May
DESCRIPTION:MRO Disco\n						Where? Buckpool Golf Club \nWhen? Friday 26th of May 2023 \nTime? 7.30pm – 10pm \nPrice? £4 at the Door \nOver 18s only\, unless accompanied by a responsible adult \nFor transport\, please contact: Angela 07951 088184 \n 
URL:https://morayreachout.org.uk/event/mro-disco-26th-may/
LOCATION:Buckpool Golf Club\, Barhill Rd\, Buckie\, Moray\, AB56 1DU\, United Kingdom
CATEGORIES:Social Activities
END:VEVENT
BEGIN:VEVENT
DTSTART;TZID=Europe/London:20230428T190000
DTEND;TZID=Europe/London:20230428T223000
DTSTAMP:20260420T070303
CREATED:20220428T183039Z
LAST-MODIFIED:20230214T140044Z
UID:5498-1682708400-1682721000@morayreachout.org.uk
SUMMARY:MRO Disco - 28th April
DESCRIPTION:MRO Disco\n						Where? Ex Serviceman’s Club\, Elgin \nWhen? Friday 28th of April 2023 \nTime? 7.30pm – 10pm \nPrice? £4 at the Door \nOver 18s only\, unless accompanied by a responsible adult \nTransport will not be provided: \nAngela 07951 088184 \n 
URL:https://morayreachout.org.uk/event/mro-disco-28th-april/
LOCATION:Ex Serviceman’s Club\, 9 High St\, Elgin\, Moray\, IV30 1EQ\, United Kingdom
CATEGORIES:Social Activities
END:VEVENT
BEGIN:VEVENT
DTSTART;TZID=Europe/London:20230331T190000
DTEND;TZID=Europe/London:20230331T223000
DTSTAMP:20260420T070303
CREATED:20221019T131508Z
LAST-MODIFIED:20230214T140738Z
UID:5538-1680289200-1680301800@morayreachout.org.uk
SUMMARY:MRO Disco - 31st March
DESCRIPTION:MRO Disco\n						Where? Buckpool Golf Club \nWhen? Friday 31st of March 2023 \nTime? 7.30pm – 10pm \nPrice? £4 at the Door \nOver 18s only\, unless accompanied by a responsible adult \nFor transport\, please contact: Angela 07951 088184 \n 
URL:https://morayreachout.org.uk/event/mro-disco-31st-march/
LOCATION:Buckpool Golf Club\, Barhill Rd\, Buckie\, Moray\, AB56 1DU\, United Kingdom
CATEGORIES:Social Activities
END:VEVENT
BEGIN:VEVENT
DTSTART;TZID=Europe/London:20230224T190000
DTEND;TZID=Europe/London:20230224T223000
DTSTAMP:20260420T070303
CREATED:20220224T193040Z
LAST-MODIFIED:20230214T135712Z
UID:5512-1677265200-1677277800@morayreachout.org.uk
SUMMARY:MRO Disco - 24th February
DESCRIPTION:MRO Disco\n						Where? Ex Serviceman’s Club\, Elgin \nWhen? Friday 24th of February 2023 \nTime? 7.30pm – 10pm \nPrice? £3 at the Door \nOver 18s only\, unless accompanied by a responsible adult \nTransport will not be provided: \nAngela 07951 088184 \n 
URL:https://morayreachout.org.uk/event/mro-disco-24th-february/
LOCATION:Ex Serviceman’s Club\, 9 High St\, Elgin\, Moray\, IV30 1EQ\, United Kingdom
CATEGORIES:Social Activities
END:VEVENT
BEGIN:VEVENT
DTSTART;TZID=Europe/London:20230127T190000
DTEND;TZID=Europe/London:20230127T223000
DTSTAMP:20260420T070303
CREATED:20221018T183024Z
LAST-MODIFIED:20230116T153026Z
UID:5529-1674846000-1674858600@morayreachout.org.uk
SUMMARY:MRO Disco - 27th January
DESCRIPTION:MRO Disco\n						Where? Buckpool Golf Club \nWhen? Friday 27th of January 2023 \nTime? 7.30pm – 10pm \nPrice? £3 at the Door \nOver 18s only\, unless accompanied by a responsible adult \nFor transport\, please contact: Angela 07951 088184 \n 
URL:https://morayreachout.org.uk/event/mro-disco-27th-january/
LOCATION:Buckpool Golf Club\, Barhill Rd\, Buckie\, Moray\, AB56 1DU\, United Kingdom
CATEGORIES:Social Activities
END:VEVENT
BEGIN:VEVENT
DTSTART;TZID=Europe/London:20221206T140000
DTEND;TZID=Europe/London:20221206T160000
DTSTAMP:20260420T070303
CREATED:20221109T140505Z
LAST-MODIFIED:20221109T140512Z
UID:5618-1670335200-1670342400@morayreachout.org.uk
SUMMARY:Meet the Board - AGM
DESCRIPTION:
URL:https://morayreachout.org.uk/event/meet-the-board-agm/
LOCATION:Home\, 23 East Church St.\, Buckie\, AB56 1ET\, United Kingdom
CATEGORIES:Social Activities
ORGANIZER;CN="Moray Reach Out":MAILTO:info@morayreachout.org.uk
END:VEVENT
BEGIN:VEVENT
DTSTART;TZID=Europe/London:20221118T190000
DTEND;TZID=Europe/London:20221118T220000
DTSTAMP:20260420T070303
CREATED:20221109T134756Z
LAST-MODIFIED:20221109T134953Z
UID:5607-1668798000-1668808800@morayreachout.org.uk
SUMMARY:Trainee Award Ceremony
DESCRIPTION:
URL:https://morayreachout.org.uk/event/trainee-award-ceremony/
LOCATION:Buckie Bapist Church
CATEGORIES:Social Activities
ORGANIZER;CN="Moray Reach Out":MAILTO:info@morayreachout.org.uk
END:VEVENT
BEGIN:VEVENT
DTSTART;TZID=Europe/London:20221028T190000
DTEND;TZID=Europe/London:20221028T223000
DTSTAMP:20260420T070303
CREATED:20220425T183022Z
LAST-MODIFIED:20221019T124221Z
UID:2710-1666983600-1666996200@morayreachout.org.uk
SUMMARY:MRO Disco - 28th October
DESCRIPTION:
URL:https://morayreachout.org.uk/event/mro-disco-28th-october/
LOCATION:Ex Serviceman’s Club\, 9 High St\, Elgin\, Moray\, IV30 1EQ\, United Kingdom
CATEGORIES:Social Activities
END:VEVENT
BEGIN:VEVENT
DTSTART;TZID=Europe/London:20220826T190000
DTEND;TZID=Europe/London:20220826T223000
DTSTAMP:20260420T070303
CREATED:20220425T113932Z
LAST-MODIFIED:20220610T131408Z
UID:2709-1661540400-1661553000@morayreachout.org.uk
SUMMARY:MRO Disco - 26th August
DESCRIPTION:MRO Disco\n						Where? Ex Serviceman’s Club\, Elgin \nWhen? Friday 26th of August 2022 \nTime? 7.30pm – 10pm \nPrice? £3 at the Door \nOver 18s only\, unless accompanied by a responsible adult \nFor transport\, please contact: Angela 07951 088184 \n 
URL:https://morayreachout.org.uk/event/mro-disco-26th-august/
LOCATION:Ex Serviceman’s Club\, 9 High St\, Elgin\, Moray\, IV30 1EQ\, United Kingdom
CATEGORIES:Social Activities
END:VEVENT
BEGIN:VEVENT
DTSTART;TZID=Europe/London:20220624T190000
DTEND;TZID=Europe/London:20220624T223000
DTSTAMP:20260420T070303
CREATED:20220425T113651Z
LAST-MODIFIED:20220607T113015Z
UID:2685-1656097200-1656109800@morayreachout.org.uk
SUMMARY:MRO Disco - 24th June
DESCRIPTION:MRO Disco\n						Where? Ex Serviceman’s Club\, Elgin \nWhen? Friday 24th of June 2022 \nTime? 7.30pm – 10pm \nPrice? £3 at the Door \nOver 18s only\, unless accompanied by a responsible adult \nFor transport\, please contact: Angela 07951 088184 \n 
URL:https://morayreachout.org.uk/event/mro-disco-24th-june/
LOCATION:Ex Serviceman’s Club\, 9 High St\, Elgin\, Moray\, IV30 1EQ\, United Kingdom
CATEGORIES:Social Activities
END:VEVENT
BEGIN:VEVENT
DTSTART;VALUE=DATE:20220511
DTEND;VALUE=DATE:20220512
DTSTAMP:20260420T070303
CREATED:20220506T130121Z
LAST-MODIFIED:20220506T130122Z
UID:3076-1652227200-1652313599@morayreachout.org.uk
SUMMARY:Elgin
DESCRIPTION:
URL:https://morayreachout.org.uk/event/elgin/
LOCATION:Moray
CATEGORIES:Van Collection
END:VEVENT
END:VCALENDAR